BEGIN:VCALENDAR
VERSION:2.0
PRODID:-//Tukios.com/
BEGIN:VEVENT
UID:0b1f0378-710f-4b3b-98e1-7601b36eda84@www.alpinefuneralsandcremations.com
DTSTAMP:20260425T040818Z
DTSTART:20260502T180000Z
DTEND:20260502T190000Z
SUMMARY:Memorial Service
DESCRIPTION:
URL:https://www.alpinefuneralsandcremations.com/obituaries/zara-rowand
LOCATION: 517 N Sylvania Ave  Fort Worth TX 76111
GEO:32.7717325;-97.3092337
END:VEVENT
END:VCALENDAR