BEGIN:VCALENDAR
VERSION:2.0
PRODID:-//Tukios.com/
BEGIN:VEVENT
UID:eb55e88f-20bd-4be6-ae4f-ab950d01a345@www.alpinefuneralsandcremations.com
DTSTAMP:20260424T204405Z
DTSTART:20260429T163000Z
DTEND:20260429T173000Z
SUMMARY:Funeral Service
DESCRIPTION:
URL:https://www.alpinefuneralsandcremations.com/obituaries/nene-vongphrachanh
LOCATION: 517 N Sylvania Ave  Fort Worth TX 76111
GEO:32.7717325;-97.3092337
END:VEVENT
END:VCALENDAR