BEGIN:VCALENDAR
VERSION:2.0
PRODID:-//Tukios.com/
BEGIN:VEVENT
UID:dc59401c-c237-456c-bdaf-9ccf06ac7b57@www.alpinefuneralsandcremations.com
DTSTAMP:20260421T024501Z
DTSTART:20260429T190000Z
DTEND:20260429T200000Z
SUMMARY:Viewing
DESCRIPTION:
URL:https://www.alpinefuneralsandcremations.com/obituaries/miriam-shelton
LOCATION: 2300 N Sylvania Ave  Fort Worth TX 76111
GEO:32.7941183;-97.3082462
END:VEVENT
END:VCALENDAR