BEGIN:VCALENDAR
VERSION:2.0
PRODID:-//Tukios.com/
BEGIN:VEVENT
UID:5a618851-9a9e-4151-b696-72c97c79dc2b@www.alpinefuneralsandcremations.com
DTSTAMP:20260421T023145Z
DTSTART:20260430T160000Z
DTEND:20260430T170000Z
SUMMARY:Graveside Service
DESCRIPTION:
URL:https://www.alpinefuneralsandcremations.com/obituaries/miriam-shelton
LOCATION: 2000 Mountain Creek Pkwy  Dallas TX 75211
GEO:32.7156123;-96.9421747
END:VEVENT
END:VCALENDAR